1.1879856524
0.0000000000
0.0000000000
-1.1879856524
106252.6095422209
2342237.7887623087
