1.1513349540
0.0000000000
0.0000000000
-1.1513349540
58571.4243323520
2346120.2868046775
