1.1787559234
0.0000000000
0.0000000000
-1.1787559234
65549.7363102593
2342085.5655042538
