1.2644807205
0.0000000000
0.0000000000
-1.2644807205
-7993.7301655696
2390373.0365955411
