1.2499499118
0.0000000000
0.0000000000
-1.2499499118
1402.2561556524
2383067.1583341551
