1.0931448383
0.0000000000
0.0000000000
-1.0931448383
-48797.1200811409
2393847.0631766012
