1.0935893450
0.0000000000
0.0000000000
-1.0935893450
-45585.9950005158
2390268.6122209402
