1.1343690216
0.0000000000
0.0000000000
-1.1343690216
-45095.9640939639
2397741.5585347279
