1.1908336921
0.0000000000
0.0000000000
-1.1908336921
-41748.3100276261
2399775.6835576417
