1.0616513102
0.0000000000
0.0000000000
-1.0616513102
-23606.2809732483
2382114.7499605091
