1.1423321673
0.0000000000
0.0000000000
-1.1423321673
-19813.3776266197
2385811.8592200768
