1.000000
0.000000
-0.000000
-1.000000
2140000.500000
819999.500000
