1.000000
0.000000
-0.000000
-1.000000
2145000.500000
849999.500000
