1.000000
0.000000
-0.000000
-1.000000
2160000.500000
904999.500000
