1.000000
0.000000
-0.000000
-1.000000
2210000.500000
899999.500000
