1.000000
0.000000
-0.000000
-1.000000
2220000.500000
874999.500000
