1
0
-0
-1
2065018.5
3182906.5
