1
0
-0
-1
2032210.5
3215714.5
