1
0
-0
-1
1687726.5
3232118.5
