1
0
-0
-1
1704130.5
3232118.5
