1
0
-0
-1
1917382.5
3248522.5
