1.0000000000
0.0000000000
0.0000000000
-1.0000000000
1769746.5000019073
3232118.4999997132
