1
0
-0
-1
1654918.5
2657978.5
