1
0
-0
-1
1605706.5
2739998.5
