1
0
-0
-1
1622110.5
3051674.5
