1
0
-0
-1
1605706.5
3084482.5
