1
0
-0
-1
1540090.5
3117290.5
