1.0000000000
0.0000000000
0.0000000000
-1.0000000000
1540090.5000000000
2854826.5000000000
