0.30000000000000
0.00000000000000
0.00000000000000
-0.30000000000000
318000.150000
254999.850000
