0.30000000000000
0.00000000000000
0.00000000000000
-0.30000000000000
201000.150000
215999.850000
