0.30000000000000
0.00000000000000
0.00000000000000
-0.30000000000000
117000.150000
218999.850000
