0.30000000000000
0.00000000000000
0.00000000000000
-0.30000000000000
207000.150000
218999.850000
