0.30000000000000
0.00000000000000
0.00000000000000
-0.30000000000000
138000.150000
221999.850000
