0.30000000000000
0.00000000000000
0.00000000000000
-0.30000000000000
159000.150000
224999.850000
