0.30000000000000
0.00000000000000
0.00000000000000
-0.30000000000000
180000.150000
230999.850000
