0.30000000000000
0.00000000000000
0.00000000000000
-0.30000000000000
126000.150000
236999.850000
