0.30000000000000
0.00000000000000
0.00000000000000
-0.30000000000000
228000.150000
239999.850000
