0.30000000000000
0.00000000000000
0.00000000000000
-0.30000000000000
276000.150000
248999.850000
