0.30000000000000
0.00000000000000
0.00000000000000
-0.30000000000000
165000.150000
251999.850000
