0.30000000000000
0.00000000000000
0.00000000000000
-0.30000000000000
168000.150000
257999.850000
