0.30000000000000
0.00000000000000
0.00000000000000
-0.30000000000000
195000.150000
260999.850000
