0.30000000000000
0.00000000000000
0.00000000000000
-0.30000000000000
243000.150000
263999.850000
