0.30000000000000
0.00000000000000
0.00000000000000
-0.30000000000000
144000.150000
266999.850000
