0.30000000000000
0.00000000000000
0.00000000000000
-0.30000000000000
126000.150000
269999.850000
