0.30000000000000
0.00000000000000
0.00000000000000
-0.30000000000000
189000.150000
272999.850000
