0.30000000000000
0.00000000000000
0.00000000000000
-0.30000000000000
303000.150000
227999.850000
