0.500000
0.000000
-0.000000
-0.500000
2250000.250000
814999.750000
