0.300000
0.000000
0.000000
-0.300000
387000.150000
188999.850000
