0.300000
0.000000
0.000000
-0.300000
396000.150000
191999.850000
