0.300000
0.000000
0.000000
-0.300000
375000.150000
197999.850000
